BEGIN:VCALENDAR
VERSION:2.0
PRODID:-//SV Anatolia - ECPv6.15.11//NONSGML v1.0//EN
CALSCALE:GREGORIAN
METHOD:PUBLISH
X-WR-CALNAME:SV Anatolia
X-ORIGINAL-URL:https://svanatolia.nl
X-WR-CALDESC:Evenementen voor SV Anatolia
REFRESH-INTERVAL;VALUE=DURATION:PT1H
X-Robots-Tag:noindex
X-PUBLISHED-TTL:PT1H
BEGIN:VTIMEZONE
TZID:Europe/Amsterdam
BEGIN:DAYLIGHT
TZOFFSETFROM:+0100
TZOFFSETTO:+0200
TZNAME:CEST
DTSTART:20230326T010000
END:DAYLIGHT
BEGIN:STANDARD
TZOFFSETFROM:+0200
TZOFFSETTO:+0100
TZNAME:CET
DTSTART:20231029T010000
END:STANDARD
BEGIN:DAYLIGHT
TZOFFSETFROM:+0100
TZOFFSETTO:+0200
TZNAME:CEST
DTSTART:20240331T010000
END:DAYLIGHT
BEGIN:STANDARD
TZOFFSETFROM:+0200
TZOFFSETTO:+0100
TZNAME:CET
DTSTART:20241027T010000
END:STANDARD
BEGIN:DAYLIGHT
TZOFFSETFROM:+0100
TZOFFSETTO:+0200
TZNAME:CEST
DTSTART:20250330T010000
END:DAYLIGHT
BEGIN:STANDARD
TZOFFSETFROM:+0200
TZOFFSETTO:+0100
TZNAME:CET
DTSTART:20251026T010000
END:STANDARD
END:VTIMEZONE
BEGIN:VEVENT
DTSTART;VALUE=DATE:20240412
DTEND;VALUE=DATE:20240413
DTSTAMP:20260421T104153
CREATED:20240418T211137Z
LAST-MODIFIED:20240418T211137Z
UID:8807-1712880000-1712966399@svanatolia.nl
SUMMARY:Inhousedag Tata Steel
DESCRIPTION:Ontdek de wereld van staal op de Tata Steel Inhousedag! \nBen jij een bachelor- of masterstudent met een technische achtergrond? Mis dan niet de kans om op 12 april 2024 de fascinerende wereld van Tata Steel te ontdekken! Het programma begint om 12.30 uur\, waarbij we je om 12.15 uur ophalen bij Beverwijk station. Geniet van een smakelijke lunch en laat je inspireren door onze gastsprekers\, die hun ervaringen binnen Tata Steel delen. \nOm 13.30 uur start de exclusieve rondleiding. Stap in de bus met onze deskundige gids en verken de fabrieken\, waar je alles te weten komt over het intrigerende productieproces. Het programma eindigt om 16.00 uur\, en we brengen je terug naar Beverwijk station met de bus. Lijkt het jou leuk om na je studie te komen werken bij dit technisch bedrijf en wil je nu alvast netwerken\, meld je dan nu aan voor de inhousedag op 12 april! \nDatum: vrijdag 12 april 2024\nVerzameltijd: 12:15 uur\, Programma: 12:30 – 16:00 uur\nLocatie: Wenckebachstraat 1\, 1951 JZ Velsen-Noord\nAanmelddeadline: dinsdag 9 april 23:59 uur\nAanmelden: svanatolia.nl/event/inhousedag\n\nVertrek om 12:15 uur vanaf Beverwijk station.
URL:https://svanatolia.nl/event/inhousedag-tata-steel/
ATTACH;FMTTYPE=image/webp:https://svanatolia.nl/wp-content/uploads/2024/04/39167415-c40e-4cf6-a7b4-c043e76aff35.webp
END:VEVENT
BEGIN:VEVENT
DTSTART;TZID=Europe/Amsterdam:20240417T190000
DTEND;TZID=Europe/Amsterdam:20240417T210000
DTSTAMP:20260421T104153
CREATED:20240418T211444Z
LAST-MODIFIED:20240418T211444Z
UID:8811-1713380400-1713387600@svanatolia.nl
SUMMARY:Sohbet Avond
DESCRIPTION:Op woensdag 17 april is onze derde sohbet avond van dit academisch jaar! Deze sohbet avond zal plaatsvinden aan de Vrije Universiteit Amsterdam en zal verzorgd worden door Eyyub Aydin\, student master islamitische theologie. We gaan het hebben over “Islamitische huwelijken”. \n  \nTijdens deze bijeenkomst zullen we de volgende punten behandelen: \n\nBelang van het huwelijk binnen de islâm.\nDe eerste gepaste stappen.\nOmgang tijdens het huwelijk.\nEnkele voorbeelden binnen de sunnah en de levens van de metgezellen.\n\n  \nBen jij geïnteresseerd in deze leerzame avond\, meld je dan meteen aan via de link in de bio. \n  \n📅 Datum: Woensdag 17 april \n🕡 Begintijd: 19:00 uur Eindtijd: 21:00 uur  \n📍 Locatie: HG-02A33 \n✉️ Toegang: Gratis \n🌐 Voertaal: Nederlands \n🖋️ Aanmelden: www.svanatolia.nl/events/sohbet4
URL:https://svanatolia.nl/event/sohbet-avond/
ATTACH;FMTTYPE=image/webp:https://svanatolia.nl/wp-content/uploads/2024/04/Sohbet-2324-3.webp
END:VEVENT
BEGIN:VEVENT
DTSTART;TZID=Europe/Amsterdam:20240418T080000
DTEND;TZID=Europe/Amsterdam:20240418T170000
DTSTAMP:20260421T104153
CREATED:20240418T191450Z
LAST-MODIFIED:20240418T191545Z
UID:8785-1713427200-1713459600@svanatolia.nl
SUMMARY:Gala
DESCRIPTION:🎉 Save the date! Op donderdag 29 februari 2024 viert SV Anatolia niet alleen The Anatolian Ball\, maar ook ons 25-jarig jubileum! “25 jaar van vriendschap\, dans en onvergetelijke momenten. Laten we samen deze bijzondere avond vieren en herinneringen maken die nog eens 25 jaar meegaan!” Wees klaar om te stralen in je beste outfit\, want de inloop begint om 18:00 uur en het feest duurt tot 00:00 uur in de sfeervolle Brasserie Paardenburg. \nGeniet van heerlijke muziek\, een betoverend walking dinner en vier met ons mee ter ere van 25 jaar SV Anatolia. Mis dit feest niet en meld je snel aan op svanatolia.nl/event/gala of via de link in onze bio. Samen maken we van deze jubileumviering een herinnering om te koesteren! \n📅 Data: Donderdag 29 februari 2024 \n⏰ Tijd: 18:00 uur tot 00:00 uur \n💸 Prijs: Leden €12\,50 en niet-leden €25\,- \n📍 Locatie: Brasserie Paardenburg\, Amstelzijde 55\, 1184 TZ Amstelveen \n👗🕴️ Dresscode: Gala (galajurk en smoking) \n🎉 Aanmelden via: svanatolia.nl/event/gala/
URL:https://svanatolia.nl/event/gala/
ATTACH;FMTTYPE=image/webp:https://svanatolia.nl/wp-content/uploads/2024/04/IMG_2406.webp
END:VEVENT
BEGIN:VEVENT
DTSTART;TZID=Europe/Amsterdam:20240418T080000
DTEND;TZID=Europe/Amsterdam:20240418T170000
DTSTAMP:20260421T104153
CREATED:20240418T193528Z
LAST-MODIFIED:20240418T194028Z
UID:8790-1713427200-1713459600@svanatolia.nl
SUMMARY:Dodgeball Jump Editie
DESCRIPTION:Heb je zin om een reis terug in de tijd te maken door bijvoorbeeld lekker een potje trefbal te spelen?🎉  Dat is mooi meegenomen! 😊 We kiezen echter niet voor de standaard versie\, maar gaan voor de Dodgeball Jump editie! 🤾‍♂️ Deze variant is ideaal voor echte liefhebbers van trefbal. Op donderdag 7 maart om 18:30 uur zullen we verzamelen bij Jumpsquare Amsterdam. We staan klaar met trefballen om de hele avond lang iedereen uit te dagen. Op een veld met trampolines kun je je tegenstanders uitspelen\, maar ondertussen is het ook belangrijk om overeind te blijven. Nodig je vrienden en vriendinnen uit en doe gezellig met ons mee. Meld je snel aan\, want er is slechts een beperkt aantal plekken beschikbaar! VOL=VOL! 🚀 \nDatum: Donderdag 7 maart 2024 \nTijd: 18:30 uur – 20:30 uur \nLocatie: Daniël Goedkoopstraat 1\, huisnummer 29\, 1096 BD Amsterdam \nPrijs: Leden: €6\,- niet-leden: €15\,-
URL:https://svanatolia.nl/event/dodgeball-jump-editie/
ATTACH;FMTTYPE=image/webp:https://svanatolia.nl/wp-content/uploads/2024/04/Dodgeball-scaled-1.webp
END:VEVENT
BEGIN:VEVENT
DTSTART;TZID=Europe/Amsterdam:20240418T080000
DTEND;TZID=Europe/Amsterdam:20240418T170000
DTSTAMP:20260421T104153
CREATED:20240418T194514Z
LAST-MODIFIED:20240418T200923Z
UID:8795-1713427200-1713459600@svanatolia.nl
SUMMARY:Vrouwendag
DESCRIPTION:Vrijdag 8 maart is de Internationale Vrouwendag! Om de erkenning en waardering van vrouwen in kaart te brengen zal Anatolia vrouwendag vieren aan de hand van een gastspreekster. Onze gastspreekster van dit jaar is Mr. Feride Tosun! Feride Tosun zal op deze avond een verhaal vertellen over haar succesverhaal.  \n  \nMr. Feride Tosun is gekozen tot een van de beste strafrechtadvocaten in de jaren 2016 en 2017. Mr. Tosun heeft haar master Criminal Law behaald op de Vrije Universiteit Amsterdam. Mr. Feride Tosun heeft meegedaan aan het programma Misdaad Advocaten en heeft het programma The Genius gewonnen. Op dit moment is ze een ervaren en deskundige advocaat die uitsluitend strafzaken behandelt. Begin 2019 is zij haar eigen advocatenkantoor genaamd Tosun Advocatuur gestart. \n  \nTijdens dit evenement zal Mr. Feride Tosun haar verhaal vertellen over haar pad naar succes en de uitdagingen hiervan als vrouw zijnde. Haar ervaringen met het overwinnen van uitdagingen en het behalen van succes als vrouw in een veeleisend vakgebied kunnen zowel motiverend als leerzaam zijn voor de aanwezigen. Het delen van haar verhaal en het bieden van tips kan anderen inspireren om hun doelen na te streven.  \n  \nGraag zien wij iedereen tijdens deze mooie avond! \nAanmelden kan via de link in bio of via www.svanatolia.nl/events/vrouwendag \n  \n📅 Datum: Vrijdag 8 maart \n🕡 Inlooptijd: 18:30 uur Begintijd 19:00 Eindtijd: 21:00 uur  \n📍 Locatie: Hoofdgebouw 02A33\, Vrije Universiteit Amsterdam \n✉️ Toegang: Gratis \n🌐 Voertaal: Nederlands \n🖋️ Aanmelden: www.svanatolia.nl/event/vrouwendag
URL:https://svanatolia.nl/event/vrouwendag/
ATTACH;FMTTYPE=image/webp:https://svanatolia.nl/wp-content/uploads/2024/04/Gray-and-pink-modern-international-womens-day-instagram-post.webp
END:VEVENT
BEGIN:VEVENT
DTSTART;TZID=Europe/Amsterdam:20240418T080000
DTEND;TZID=Europe/Amsterdam:20240418T170000
DTSTAMP:20260421T104153
CREATED:20240418T201254Z
LAST-MODIFIED:20250213T132115Z
UID:8799-1713427200-1713459600@svanatolia.nl
SUMMARY:Iftar
DESCRIPTION:De heilige maand\, de Ramadan komt er weer aan✨Woensdag 20 maart organiseren wij als SV Anatolia weer een onvergetelijke iftar in Amsterdam. De iftar zal zoals vorig jaar weer plaatsvinden bij restaurant Leziz. Ramadan is de maand om bewust te worden van de zegeningen van Allah en die zegeningen te delen met anderen. Daarom nodigen wij je van harte uit om tijdens deze mooie maand inshaAllah samen onze vasten te breken.  \n\n  \nWe kijken er naar uit om weer onze jaarlijkse iftar te houden samen met jullie! Het zal een mooie en bijzondere avond worden.✨ \nAanmelden kan via www.svanatolia.nl/events/iftar of via de link in de bio. \n  \n📅 Datum: Woensdag 20 maart 2024 \n🕡 Inlooptijd: 18:15 uur Iftar: 19:00 uur Eindtijd: 20:30 uur  \n📍 Locatie: Leziz\, Pieter Calandlaan 945\, 1069 SC Amsterdam \n✉️ Toegang: Leden €12\,50 en niet-leden €25\,- \n🌐 Voertaal: Nederlands \n🖋️ Aanmelden: www.svanatolia.nl/events/iftar
URL:https://svanatolia.nl/event/iftar2024/
ATTACH;FMTTYPE=image/webp:https://svanatolia.nl/wp-content/uploads/2024/04/Doneee.webp
END:VEVENT
BEGIN:VEVENT
DTSTART;TZID=Europe/Amsterdam:20240418T190000
DTEND;TZID=Europe/Amsterdam:20240418T210000
DTSTAMP:20260421T104153
CREATED:20240418T211924Z
LAST-MODIFIED:20240418T212045Z
UID:8815-1713466800-1713474000@svanatolia.nl
SUMMARY:Sporttoernooi
DESCRIPTION:Heb jij zin in wat competitie en gezelligheid? Goed nieuws\, want Anatolia staat weer voor jullie klaar met een Sporttoernooi 🤩  Op donderdag 18 april van 19:00 uur tot 21:30 uur vindt het toernooi plaats in de Sporthallen Zuid 3. \n\nHet is tijd om al je skills te laten zien\, of misschien is het het juiste moment om nieuwe skills te leren! Op deze avond gaan wij voetballen\, maar ook volleyballen. Dit doen we door in teams verschillende rondes te spelen en te strijden voor de gouden medaille 🥇. Maak je klaar voor een onvergetelijke sportavond vol met plezier en competitie Nodig je vrienden uit en doe gezellig met ons mee. Maar wees er snel bij\, want de plaatsen zijn beperkt!  VOL=VOL! 🚀 \n  \nDatum: Donderdag 18 april 2024 \nTijd: Verzameltijd: 19:00 uur ⚽️ Begintijd: 19:30 uur   Eindtijd: 21:30 uur \nLocatie: Sporthallen Zuid 3\, Burgerweeshuispad 54\, 1076 EP Amsterdam \nPrijs: Leden: €3\,- niet-leden: €6- \nAanmelden via: www.svanatolia.nl/event/sporttoernooi/ of link in de bio 📲🎟️✨
URL:https://svanatolia.nl/event/sporttoernooi/
ATTACH;FMTTYPE=image/webp:https://svanatolia.nl/wp-content/uploads/2024/04/f6b97459-a65d-4fdb-87d8-4c5148243f71.webp
END:VEVENT
BEGIN:VEVENT
DTSTART;TZID=Europe/Amsterdam:20240425T090000
DTEND;TZID=Europe/Amsterdam:20240429T233000
DTSTAMP:20260421T104153
CREATED:20240418T212616Z
LAST-MODIFIED:20240418T212616Z
UID:8820-1714035600-1714433400@svanatolia.nl
SUMMARY:Reis naar Praag
DESCRIPTION:🌍 Ontdek de betoverende schoonheid van Praag met SV Anatolia! 🇨🇿 Op donderdag 25 april 2024 gaan we vanuit het bruisende Amsterdam Schiphol naar de hoofdstad van Tsjechië vol met avontuur en cultuur 🛫🏰 \n  \n🌟 Geniet van een verblijf in een prachtig 4-sterrenhotel met een rooftop 🌇 Daarnaast zijn de OV kosten\, één diner\, één ontbijt en één lunch inbegrepen in de prijs! \n  \n👥 Slechts €415\,- voor leden! Niet-leden zijn natuurlijk ook welkom voor €450\,- \n  \n🇨🇿 Grijp deze kans om Praag op een unieke manier te ervaren. Ontdek onder andere de Praagse burcht\, de Lennonmuur en de Karelsbrug 🌉 \n  \n📆 Zet deze data in je agenda: Vertrek op donderdag 25 april 2024 en een terugreis op maandag 29 april. Mis deze kans niet om samen met ons onvergetelijke herinneringen te creëren in het hart van Tsjechië! 🤩 \n  \n📅 Data: donderdag 25 april – maandag 29 april 2024 \n💸 Prijs: Leden €415\,-\, niet-leden €450\,- \n✈️ Vertrek: Amsterdam Schiphol \n🏨 Inclusief: Vlucht\, verblijf in 4-sterrenhotel\, OV kosten\, één diner\, één ontbijt en één lunch \n❗️ Aanmelddeadline: Zondag 3 maart 23:59 via de website \n❓ Vragen? Mail naar events@svanatolia.local \n  \n✈️ Pak je koffers en laat SV Anatolia je meenemen op een reis die je nooit zult vergeten! ✨ \n  \n💰 Bij de inschrijving zijn de tickets gratis. De betaling vindt na de selectie plaats. Hierover zal nog verder contact worden opgenomen.  \n  \n  \nMotivatie\n🍀 In verband met beperkte plekken\, werken wij met een selectiesysteem. \n📩 Geef hieronder een korte motivatie over waarom jij mee wilt. Wat maakt jou de ideale reis partner? \n👫 Mocht je je aanmelden met een vriend(in)\, geef dit aan in je motivatie en vermeldt haar/zijn naam. \n  \n[contact-form to=”events@svanatolia.local” subject=”Motivatie Praag”][contact-field label=”Naam” type=”name” required=”1″][contact-field label=”Leeftijd” type=”text” required=”1″][contact-field label=”E-mail” type=”email” required=”1″][contact-field label=”Telefoonnummer” type=”text” required=”1″][contact-field label=”Motivatie” type=”textarea” required=”1″][/contact-form] \n 
URL:https://svanatolia.nl/event/reis-naar-praag/
ATTACH;FMTTYPE=image/webp:https://svanatolia.nl/wp-content/uploads/2024/04/praag-square-scaled-1.webp
END:VEVENT
END:VCALENDAR