BEGIN:VCALENDAR
VERSION:2.0
PRODID:-//SV Anatolia - ECPv6.15.11//NONSGML v1.0//EN
CALSCALE:GREGORIAN
METHOD:PUBLISH
X-WR-CALNAME:SV Anatolia
X-ORIGINAL-URL:https://svanatolia.nl
X-WR-CALDESC:Evenementen voor SV Anatolia
REFRESH-INTERVAL;VALUE=DURATION:PT1H
X-Robots-Tag:noindex
X-PUBLISHED-TTL:PT1H
BEGIN:VTIMEZONE
TZID:Europe/Amsterdam
BEGIN:DAYLIGHT
TZOFFSETFROM:+0100
TZOFFSETTO:+0200
TZNAME:CEST
DTSTART:20220327T010000
END:DAYLIGHT
BEGIN:STANDARD
TZOFFSETFROM:+0200
TZOFFSETTO:+0100
TZNAME:CET
DTSTART:20221030T010000
END:STANDARD
BEGIN:DAYLIGHT
TZOFFSETFROM:+0100
TZOFFSETTO:+0200
TZNAME:CEST
DTSTART:20230326T010000
END:DAYLIGHT
BEGIN:STANDARD
TZOFFSETFROM:+0200
TZOFFSETTO:+0100
TZNAME:CET
DTSTART:20231029T010000
END:STANDARD
BEGIN:DAYLIGHT
TZOFFSETFROM:+0100
TZOFFSETTO:+0200
TZNAME:CEST
DTSTART:20240331T010000
END:DAYLIGHT
BEGIN:STANDARD
TZOFFSETFROM:+0200
TZOFFSETTO:+0100
TZNAME:CET
DTSTART:20241027T010000
END:STANDARD
END:VTIMEZONE
BEGIN:VEVENT
DTSTART;TZID=Europe/Amsterdam:20230222T180000
DTEND;TZID=Europe/Amsterdam:20230222T193000
DTSTAMP:20260420T114548
CREATED:20230129T182721Z
LAST-MODIFIED:20230129T203619Z
UID:1326-1677088800-1677094200@svanatolia.nl
SUMMARY:Formula Racing!
DESCRIPTION:Ready\, set\, go! De evenementencommissie heeft weer een spannend evenement voorbereid. Op woensdag 22 februari tussen 18:00 uur en 19:15 uur zullen we gaan karten bij de kartbaan Silverstone in Zwanenburg. \nHeb jij zin om iedereen te laten zien dat jij de beste coureur van Anatolia bent? Meld je dan gelijk aan!\nHou je wel van een beetje spanning en spektakel? En wil je laten zien hoe je die ene bocht op de juiste manier neemt? Dan is dit een evenement voor jou. Uiteraard staat zoals altijd veiligheid voorop en hierop zal ook worden toegezien. Ook zal er natuurlijk ruimte zijn om eens bij te praten met je mede-anatolians. Schroom niet en meld je snel aan! \nDatum: Woensdag 22 februari 2023\nInloop 17:45 uur\, Karten 18:00 uur – 19:15 uur\nLocatie: Silverstone Partycenter\, Weerenweg 21-23\, 1161 AE Zwanenburg\nToegang: Leden €15 en niet-leden €21\nAanmelden via svanatolia.nl/karten of de link in onze bio
URL:https://svanatolia.nl/event/formula-racing/
LOCATION:Silverstone Partycentrum
ATTACH;FMTTYPE=image/jpeg:https://svanatolia.nl/wp-content/uploads/2023/01/de973c40-6abf-4dbc-b032-246a3a1dbe08.jpg
ORGANIZER;CN="Anatolia":MAILTO:info@svanatolia.nl
END:VEVENT
END:VCALENDAR