BEGIN:VCALENDAR
VERSION:2.0
PRODID:-//SV Anatolia - ECPv6.15.11//NONSGML v1.0//EN
CALSCALE:GREGORIAN
METHOD:PUBLISH
X-ORIGINAL-URL:https://svanatolia.nl
X-WR-CALDESC:Evenementen voor SV Anatolia
REFRESH-INTERVAL;VALUE=DURATION:PT1H
X-Robots-Tag:noindex
X-PUBLISHED-TTL:PT1H
BEGIN:VTIMEZONE
TZID:Europe/London
BEGIN:DAYLIGHT
TZOFFSETFROM:+0000
TZOFFSETTO:+0100
TZNAME:BST
DTSTART:20220327T010000
END:DAYLIGHT
BEGIN:STANDARD
TZOFFSETFROM:+0100
TZOFFSETTO:+0000
TZNAME:GMT
DTSTART:20221030T010000
END:STANDARD
BEGIN:DAYLIGHT
TZOFFSETFROM:+0000
TZOFFSETTO:+0100
TZNAME:BST
DTSTART:20230326T010000
END:DAYLIGHT
BEGIN:STANDARD
TZOFFSETFROM:+0100
TZOFFSETTO:+0000
TZNAME:GMT
DTSTART:20231029T010000
END:STANDARD
BEGIN:DAYLIGHT
TZOFFSETFROM:+0000
TZOFFSETTO:+0100
TZNAME:BST
DTSTART:20240331T010000
END:DAYLIGHT
BEGIN:STANDARD
TZOFFSETFROM:+0100
TZOFFSETTO:+0000
TZNAME:GMT
DTSTART:20241027T010000
END:STANDARD
END:VTIMEZONE
BEGIN:VEVENT
DTSTART;TZID=Europe/London:20230316T190000
DTEND;TZID=Europe/London:20230316T210000
DTSTAMP:20260420T114624
CREATED:20230312T192854Z
LAST-MODIFIED:20231217T220159Z
UID:2523-1678993200-1679000400@svanatolia.nl
SUMMARY:Sohbet Avond
DESCRIPTION:Het is bijna zover! Op donderdag 16 maart organiseren wij een Sohbet. Dit zal plaatsvinden aan de Vrije Universiteit van Amsterdam en zal worden gegeven door Eyyub Aydin\, student Master Islamitische theologie. Het onderwerp zal zijn “Leven als een moslim(a)”. \nTijdens deze bijeenkomst zullen we de volgende punten behandelen;\n• De overlevering van Jibril a.s.\n• Hoe moeten wij leven als moslim(a)?\n• Wat is een moslimidentiteit?\n• Hoe vertegenwoordigen wij de Islâm? \nDatum: Donderdag 16 maart 2023\nInloop: 18:30u\, Sohbet: 19.00u – 21.00u\nLocatie: Hoofdgebouw 07A33\, Vrije Universiteit Amsterdam\nAanmelden: svanatolia.nl/sohbet\nVoertaal: Nederl
URL:https://svanatolia.nl/event/sohbet-avond-12/
ATTACH;FMTTYPE=image/png:https://svanatolia.nl/wp-content/uploads/2023/03/Schermafbeelding-2023-03-12-om-21.22.01.png
END:VEVENT
END:VCALENDAR