BEGIN:VCALENDAR
VERSION:2.0
PRODID:-//SV Anatolia - ECPv6.15.11//NONSGML v1.0//EN
CALSCALE:GREGORIAN
METHOD:PUBLISH
X-ORIGINAL-URL:https://svanatolia.nl
X-WR-CALDESC:Evenementen voor SV Anatolia
REFRESH-INTERVAL;VALUE=DURATION:PT1H
X-Robots-Tag:noindex
X-PUBLISHED-TTL:PT1H
BEGIN:VTIMEZONE
TZID:Europe/Amsterdam
BEGIN:DAYLIGHT
TZOFFSETFROM:+0100
TZOFFSETTO:+0200
TZNAME:CEST
DTSTART:20220327T010000
END:DAYLIGHT
BEGIN:STANDARD
TZOFFSETFROM:+0200
TZOFFSETTO:+0100
TZNAME:CET
DTSTART:20221030T010000
END:STANDARD
BEGIN:DAYLIGHT
TZOFFSETFROM:+0100
TZOFFSETTO:+0200
TZNAME:CEST
DTSTART:20230326T010000
END:DAYLIGHT
BEGIN:STANDARD
TZOFFSETFROM:+0200
TZOFFSETTO:+0100
TZNAME:CET
DTSTART:20231029T010000
END:STANDARD
BEGIN:DAYLIGHT
TZOFFSETFROM:+0100
TZOFFSETTO:+0200
TZNAME:CEST
DTSTART:20240331T010000
END:DAYLIGHT
BEGIN:STANDARD
TZOFFSETFROM:+0200
TZOFFSETTO:+0100
TZNAME:CET
DTSTART:20241027T010000
END:STANDARD
END:VTIMEZONE
BEGIN:VEVENT
DTSTART;TZID=Europe/Amsterdam:20230301T190000
DTEND;TZID=Europe/Amsterdam:20230301T220000
DTSTAMP:20260420T122636
CREATED:20230424T153429Z
LAST-MODIFIED:20230424T153429Z
UID:3925-1677697200-1677708000@svanatolia.nl
SUMMARY:BizBize Çiğköfte gecesi
DESCRIPTION:SV Anatolia organiseert op woensdag 1 maart van 19:00 uur tot 22:00 uur opnieuw een BizBize Çiğ Köfte Gecesi! Een avond vol çiğ köfte en gezelligheid. Op deze avond zullen wij met onze leden een gezellige avond creëren waarbij we volop zullen genieten van çiğ köfte en verschillende spelletjes. Heb jij zin om samen met andere leden volop te genieten van een sfeervolle avond? Schroom dan niet en meld je snel aan via svanatolia.nl/cigkofte of via de link in onze bio. \nÇiğ Köfte avonden komen voornamelijk voor in het oosten van Turkije en worden ‘sira gecesi’ genoemd. Oorspronkelijk komt het voort uit de stad Sanliurfa. De naam ‘sira gecesi’ zegt het al; elke avond is een ander huis weer aan de beurt waarbij de ‘sira gecesi’ wordt gehouden. Een bijeenkomst waarbij zingen\, kletsen\, çiğ köfte en natuurlijk gezelligheid voorop wordt gesteld. Hou jij hier ook van? Dan is de BizBize Çiğ Köfte Gecesi perfect voor jou! \nP.S. Je mag niet weg voordat je vol zit! \nDatum: woensdag 1 maart 2023 \nTijd: 19:00-22:00 \nLocatie: StudentenD0k (Hoofdgebouw\, Vrije Universiteit Amsterdam) \nToegang: alleen voor leden  \nPrijs: gratis entree \nAanmelden via: svanatolia.nl/cigkofte
URL:https://svanatolia.nl/event/bizbize-cigkofte-gecesi/
END:VEVENT
END:VCALENDAR